BEGIN:VCALENDAR
VERSION:2.0
PRODID:-//Covalent Logic//Content Management System//EN
BEGIN:VEVENT
UID:1776796575507.COVALENTLOGIC.COM
DTSTART:20231215T150000Z
DTEND:20231217T000000Z
SUMMARY:2023 End of Year CLE
LOCATION:SU Law Center
DESCRIPTION:
PRIORITY:5
END:VEVENT
END:VCALENDAR