BEGIN:VCALENDAR
VERSION:2.0
PRODID:-//Covalent Logic//Content Management System//EN
BEGIN:VEVENT
UID:1776803259089.COVALENTLOGIC.COM
DTSTART:20201130T060000Z
DTEND:20201201T055959Z
SUMMARY:Final Examinations Begin
LOCATION:
DESCRIPTION:
PRIORITY:5
END:VEVENT
END:VCALENDAR