BEGIN:VCALENDAR
VERSION:2.0
PRODID:-//Covalent Logic//Content Management System//EN
BEGIN:VEVENT
UID:1776983371050.COVALENTLOGIC.COM
DTSTART:20210729T050000Z
DTEND:20210801T045959Z
SUMMARY:2021 Cannabis Symposium
LOCATION:
DESCRIPTION:
PRIORITY:5
END:VEVENT
END:VCALENDAR