BEGIN:VCALENDAR
VERSION:2.0
PRODID:-//Covalent Logic//Content Management System//EN
BEGIN:VEVENT
UID:1776851398722.COVALENTLOGIC.COM
DTSTART:20210827T140000Z
DTEND:20210827T170000Z
SUMMARY:Staff Workshop
LOCATION:Valdry Center
DESCRIPTION:
PRIORITY:5
END:VEVENT
END:VCALENDAR