BEGIN:VCALENDAR
VERSION:2.0
PRODID:-//Covalent Logic//Content Management System//EN
BEGIN:VEVENT
UID:1776690219216.COVALENTLOGIC.COM
DTSTART:20211008T170000Z
DTEND:20211008T180000Z
SUMMARY:Becoming Fierce in the Practice of Law: Education and COVID-19
LOCATION:
DESCRIPTION:
PRIORITY:5
END:VEVENT
END:VCALENDAR