BEGIN:VCALENDAR
VERSION:2.0
PRODID:-//Covalent Logic//Content Management System//EN
BEGIN:VEVENT
UID:1776744158444.COVALENTLOGIC.COM
DTSTART:20211028T050000Z
DTEND:20211030T045959Z
SUMMARY:Legally Connected-2nd Annual Sports & Entertainment Symposium
LOCATION:
DESCRIPTION:
PRIORITY:5
END:VEVENT
END:VCALENDAR