BEGIN:VCALENDAR
VERSION:2.0
PRODID:-//Covalent Logic//Content Management System//EN
BEGIN:VEVENT
UID:1776665897251.COVALENTLOGIC.COM
DTSTART:20260601T050000Z
DTEND:20260602T045959Z
SUMMARY:Classes Begin
LOCATION:
DESCRIPTION:
PRIORITY:5
END:VEVENT
END:VCALENDAR