BEGIN:VCALENDAR
VERSION:2.0
PRODID:-//Covalent Logic//Content Management System//EN
BEGIN:VEVENT
UID:1776664942906.COVALENTLOGIC.COM
DTSTART:20260706T050000Z
DTEND:20260707T045959Z
SUMMARY:Classes Resume
LOCATION:
DESCRIPTION:
PRIORITY:5
END:VEVENT
END:VCALENDAR