BEGIN:VCALENDAR
VERSION:2.0
PRODID:-//Covalent Logic//Content Management System//EN
BEGIN:VEVENT
UID:1776858181394.COVALENTLOGIC.COM
DTSTART:20260425T150000Z
DTEND:20260425T180000Z
SUMMARY:The Roots That Bind Us
LOCATION:St. Joseph the Worker Catholic Church, 455 Ames Blvd, Marrero, LA 70072
DESCRIPTION:
PRIORITY:5
END:VEVENT
END:VCALENDAR